BEGIN:VCALENDAR
VERSION:2.0
PRODID:-//M.D School - ECPv6.15.20//NONSGML v1.0//EN
CALSCALE:GREGORIAN
METHOD:PUBLISH
X-WR-CALNAME:M.D School
X-ORIGINAL-URL:https://md-school.net
X-WR-CALDESC:Events for M.D School
REFRESH-INTERVAL;VALUE=DURATION:PT1H
X-Robots-Tag:noindex
X-PUBLISHED-TTL:PT1H
BEGIN:VTIMEZONE
TZID:UTC
BEGIN:STANDARD
TZOFFSETFROM:+0000
TZOFFSETTO:+0000
TZNAME:UTC
DTSTART:20220101T000000
END:STANDARD
END:VTIMEZONE
BEGIN:VEVENT
DTSTART;TZID=UTC:20230525T100000
DTEND;TZID=UTC:20230525T130000
DTSTAMP:20260423T232058
CREATED:20170213T094054Z
LAST-MODIFIED:20230411T140031Z
UID:198-1685008800-1685019600@md-school.net
SUMMARY:Board Meeting
DESCRIPTION:The Ed School District is in compliance with the U.S. Civil Rights Act of 1964 and the Title IX Educational Amendments of 1972\, Part 86. The School District provides equal employment and educational opportunities to all individuals without regard to race\, color\, creed\, religion\, national origin\, political affiliation\, sex\, sexual orientation\, age\, marital status\, veteran status or disability.
URL:https://md-school.net/event/board-meeting/
ATTACH;FMTTYPE=image/jpeg:https://md-school.net/wp-content/uploads/2017/02/event-02.jpg
END:VEVENT
END:VCALENDAR