BEGIN:VCALENDAR
VERSION:2.0
PRODID:-//M.D School - ECPv6.15.20//NONSGML v1.0//EN
CALSCALE:GREGORIAN
METHOD:PUBLISH
X-ORIGINAL-URL:https://md-school.net
X-WR-CALDESC:Events for M.D School
REFRESH-INTERVAL;VALUE=DURATION:PT1H
X-Robots-Tag:noindex
X-PUBLISHED-TTL:PT1H
BEGIN:VTIMEZONE
TZID:UTC
BEGIN:STANDARD
TZOFFSETFROM:+0000
TZOFFSETTO:+0000
TZNAME:UTC
DTSTART:20250101T000000
END:STANDARD
END:VTIMEZONE
BEGIN:VEVENT
DTSTART;VALUE=DATE:20260330
DTEND;VALUE=DATE:20260404
DTSTAMP:20260423T215103
CREATED:20260309T055130Z
LAST-MODIFIED:20260309T055130Z
UID:660-1774828800-1775260799@md-school.net
SUMMARY:Reinforcement/Examinations
DESCRIPTION:
URL:https://md-school.net/event/reinforcement-examinations/
CATEGORIES:School
END:VEVENT
END:VCALENDAR